BEGIN:VCALENDAR
PRODID:-//eluceo/ical//2.0/EN
VERSION:2.0
CALSCALE:GREGORIAN
BEGIN:VEVENT
UID:aerenzdall.lu#10531
DTSTAMP:20260424T115502
SUMMARY:Wake Up! Festival
DESCRIPTION:Après la première édition du Wake Up! Festival en 2022\, nou
 s avons le grand plaisir de vous accueillir à nouveau à Medernach le 27 
 juin 2026.\n\nLe grand succès des quatre dernières années nous a montr
 é que notre idée du festival a été très bien accueillie. C’est pour
 quoi\, en tant qu’association\, nous tenons à proposer à nouveau en 20
 26 un moment culturel fort aux habitants du village\, ainsi qu’aux perso
 nnes de la région et même de la zone frontalière voisine. Nous souhaito
 ns contribuer à faire vivre la vie du village à Medernach et à encourag
 er les habitants à mieux se connaître\, à ne pas vivre chacun de leur c
 ôté\, mais ensemble en tant que communauté.\n\nC’est pour cette raiso
 n qu’il est très important pour nous que l’entrée au Wake Up! Festiv
 al soit gratuite.\n\nAprès le grand succès de 2025\, vous pouvez à nouv
 eau vous attendre cette année à des groupes de musique venant de près e
 t de loin\, ainsi qu’à des concerts exceptionnels. À partir de 12h00\,
  vous pourrez écouter le Jugendensemble de la Fanfare Medernach\, la Fanf
 are Buerglinster et la Gildrefer Musek. En soirée\, le programme continue
  avec d’excellents groupes. À partir de 16h00\, vous pourrez voir et en
 tendre les groupes « Abanda » (L)\, « Blue-ish » (L)\, « Dave Peyton 
 and the Toxic Twins » (IRL)\, « Lara Grogan » (L)\, ainsi que notre tê
 te d’affiche de l’année « Wille and the Bandits » (UK). Pour compl
 éter le programme\, DJ Ray (L) vous fera danser sur des musiques des ann
 ées 60 à aujourd’hui.\n\nLe Wake Up! Festival aura lieu sur la belle p
 lace située à côté de l’église à Medernach. Grâce à sa situation
  centrale\, le festival est facilement accessible à pied depuis tout le v
 illage. Des places de parking sont disponibles à la nouvelle salle de spo
 rt\, d’où une navette assure le transport jusqu’au site du festival. 
 De la nourriture et des boissons seront également proposées.
DTSTART;TZID=Europe/Luxembourg:20260627T113000
DTEND;TZID=Europe/Luxembourg:20260627T113000
LOCATION:Eglise Medernach\nRue De Savelborn 36\nL-7660 Medernach
END:VEVENT
END:VCALENDAR
