BEGIN:VCALENDAR
PRODID:-//eluceo/ical//2.0/EN
VERSION:2.0
CALSCALE:GREGORIAN
BEGIN:VEVENT
UID:aerenzdall.lu#10485
DTSTAMP:20260420T114704
SUMMARY:Workshop Beweegung am Glaichgewicht
DESCRIPTION:Beweegung ass ee Grondbedierfnëss!\n06.06.2026 ab 13:30 um Bio
 -Haff Baltes zu Stegen\nmam Carole\nKanner erfuerschen hiert Gläichgewiic
 ht an stäerken d’Freed un der Beweegung mat ausgewielten Materialien.\n
 D‘Eltere duefe nokucke.\n„Ohne Bewegung gibt es keinen Fortschritt und
 \nkeine Gesundheit des Geistes“\n-Maria Montessori\n&nbsp\;\nMemberen an
  Awunner vun der Gemeng Aerenzdall 10\,00€\nExterner 15\,00€\nFir Gesc
 hwesterkanner gelt eng Reduktioun vun 2\,50€\nMir schaffen a 3 Gruppen z
 u 75-90 Minuten mat jeweils maximal 6 Kanner\n(18 Meint-3 Joer /3-5 Joer /
 6-8 Joer)\nWeider Detailler an den definitiven Horaire fir aerd Kand komme
 n no\n&nbsp\;\nDe Flyer fir erofzelueden
DTSTART;TZID=Europe/Luxembourg:20260606T133000
DTEND;TZID=Europe/Luxembourg:20260606T200000
LOCATION:Bio Haff Baltes\n1\, Um Suewel\nL-9186 Stegen
END:VEVENT
END:VCALENDAR
